BEGIN:VCALENDAR
VERSION:2.0
PRODID:-//A Punto - ECPv6.15.18//NONSGML v1.0//EN
CALSCALE:GREGORIAN
METHOD:PUBLISH
X-ORIGINAL-URL:https://apuntococina.com
X-WR-CALDESC:Eventos para A Punto
REFRESH-INTERVAL;VALUE=DURATION:PT1H
X-Robots-Tag:noindex
X-PUBLISHED-TTL:PT1H
BEGIN:VTIMEZONE
TZID:Europe/Paris
BEGIN:DAYLIGHT
TZOFFSETFROM:+0100
TZOFFSETTO:+0200
TZNAME:CEST
DTSTART:20200329T010000
END:DAYLIGHT
BEGIN:STANDARD
TZOFFSETFROM:+0200
TZOFFSETTO:+0100
TZNAME:CET
DTSTART:20201025T010000
END:STANDARD
BEGIN:DAYLIGHT
TZOFFSETFROM:+0100
TZOFFSETTO:+0200
TZNAME:CEST
DTSTART:20210328T010000
END:DAYLIGHT
BEGIN:STANDARD
TZOFFSETFROM:+0200
TZOFFSETTO:+0100
TZNAME:CET
DTSTART:20211031T010000
END:STANDARD
BEGIN:DAYLIGHT
TZOFFSETFROM:+0100
TZOFFSETTO:+0200
TZNAME:CEST
DTSTART:20220327T010000
END:DAYLIGHT
BEGIN:STANDARD
TZOFFSETFROM:+0200
TZOFFSETTO:+0100
TZNAME:CET
DTSTART:20221030T010000
END:STANDARD
END:VTIMEZONE
BEGIN:VEVENT
DTSTART;TZID=Europe/Paris:20211009T200000
DTEND;TZID=Europe/Paris:20211009T220000
DTSTAMP:20260423T072347
CREATED:20190519T070958Z
LAST-MODIFIED:20231108T143730Z
UID:59466-1633809600-1633816800@apuntococina.com
SUMMARY:Cena con cata de cerveza
DESCRIPTION:Cena con cata de cerveza en Madrid\nEn esta cena con cata de cerveza\, A punto te ofrece una experiencia única: \nEl probar 5 tipos de cerveza y 5 platos para descubrir los maridajes perfectos. \n  \nCerveza de bienvenida\, Introducción a la cultura cervecera \nAperitivos con lagers e Ipas … Escabeche de caballa con sus chips de patata / \ncurry de langostinos \nPrimer plato\, cuando el trigo triunfa en una mesa …  Risotto \nSegundo plato\, homenaje a las Abadías … Guiso de rabo de toro especiado\nPostre\, la cerveza negra al poder… El chocolate en estado puro\n \n  \nSabemos que vivimos en la tierra de vinos\, que los vinos son un motor fundamental en nuestro país\, sin embargo\, cada vez surgen más aficionados a la cerveza\, lo que ha hecho que la oferta se haya elevado ampliamente. \nMaridar significa “hacer que dos cosas diferentes se correspondan o se adapten entre sí”. \nEn la gastronomía\, el término maridaje significa «casar un alimento con una bebida para realzarlos». \nEn A PUNTO nos gusta más llamarlo Armonía\, porque en el fondo consiste precisamente en eso… en conseguir la armonía de sabores y aromas entre el plato y la bebida. \nHoy en día ya se pueden diferenciar distintos tipos de cerveza\, según su color\, su sabor\, su fuerza y son estas características diferenciadoras las que nos brindan una gran cantidad de posibilidades a la hora de maridar con comida. \n  \nSI TE GUSTA EL TEMA DE LA CERVEZA\, SUSCRIBETE A NUESTRO CANAL DE TELEVISIÓN A PUNTO TV \n 
URL:https://apuntococina.com/cursodecocina/cena-con-cata-de-cerveza-en-madrid/
LOCATION:A Punto Madrid Centro\, Calle farmacia 6\, Madrid\, 28004\, España
CATEGORIES:Catas de vinos y cerveza
ATTACH;FMTTYPE=image/jpeg:https://apuntococina.com/wp-content/uploads/2020/01/cenaapunto.jpg
END:VEVENT
END:VCALENDAR